BEGIN:VCALENDAR
VERSION:2.0
PRODID:spatie/icalendar-generator
DESCRIPTION:Events from Diocesis Azcapotzalco
X-WR-CALDESC:Events from Diocesis Azcapotzalco
REFRESH-INTERVAL;VALUE=DURATION:PT1440M
X-PUBLISHED-TTL:PT1440M
BEGIN:VTIMEZONE
TZID:America/Mexico_City
BEGIN:STANDARD
DTSTART:20251026T020000Z
TZOFFSETFROM:-0500
TZOFFSETTO:-0600
END:STANDARD
BEGIN:DAYLIGHT
DTSTART:20260405T020000Z
TZOFFSETFROM:-0600
TZOFFSETTO:-0500
END:DAYLIGHT
END:VTIMEZONE
BEGIN:VTIMEZONE
TZID:UTC
BEGIN:STANDARD
DTSTART:20250725T051722Z
TZOFFSETFROM:+0000
TZOFFSETTO:+0000
END:STANDARD
END:VTIMEZONE
BEGIN:VEVENT
UID:94-62
DTSTAMP:20260421T051722Z
SUMMARY:Reunión de Presbiterio
LOCATION:
ORGANIZER;CN=Pastoral Comunicación:MAILTO:ram@tecnologia-web.com
DTSTART;TZID=America/Mexico_City;VALUE=DATE:20260416
DTEND;TZID=America/Mexico_City;VALUE=DATE:20260417
X-ALT-DESC;FMTTYPE=TEXT/HTML:Reunión de Presbiterio (Grupos de Generación
 )
CATEGORIES:+ General,  Diócesis de Azcapotzalco
URL;VALUE=URI:https://diocesisazcapotzalco.org/mc-events/reunion-de-presbit
 erio/
METHOD:PUBLISH
END:VEVENT
END:VCALENDAR