BEGIN:VCALENDAR
VERSION:2.0
PRODID:spatie/icalendar-generator
DESCRIPTION:Events from Diocesis Azcapotzalco
X-WR-CALDESC:Events from Diocesis Azcapotzalco
REFRESH-INTERVAL;VALUE=DURATION:PT1440M
X-PUBLISHED-TTL:PT1440M
BEGIN:VTIMEZONE
TZID:America/Mexico_City
BEGIN:STANDARD
DTSTART:20251026T020000Z
TZOFFSETFROM:-0500
TZOFFSETTO:-0600
END:STANDARD
BEGIN:DAYLIGHT
DTSTART:20260405T020000Z
TZOFFSETFROM:-0600
TZOFFSETTO:-0500
END:DAYLIGHT
END:VTIMEZONE
BEGIN:VTIMEZONE
TZID:UTC
BEGIN:STANDARD
DTSTART:20250725T020250Z
TZOFFSETFROM:+0000
TZOFFSETTO:+0000
END:STANDARD
END:VTIMEZONE
BEGIN:VEVENT
UID:93-61
DTSTAMP:20260421T020250Z
SUMMARY:Encuentro de los Artistas
LOCATION:
ORGANIZER;CN=Pastoral Comunicación:MAILTO:ram@tecnologia-web.com
DTSTART;TZID=America/Mexico_City:20260412T000000
DTEND;TZID=America/Mexico_City:20260412T010000
X-ALT-DESC;FMTTYPE=TEXT/HTML:Encuentro de los Artistas (Sta. María Magdale
 na)
CATEGORIES:Comisión de Pastoral Profética,  + General
URL;VALUE=URI:https://diocesisazcapotzalco.org/mc-events/encuentro-de-los-a
 rtistas/
METHOD:PUBLISH
END:VEVENT
END:VCALENDAR